BEGIN:VCALENDAR
VERSION:2.0
PRODID:-//A Very Broadway Christmas Concert at St. John&#039;s - ECPv6.15.12.2//NONSGML v1.0//EN
CALSCALE:GREGORIAN
METHOD:PUBLISH
X-WR-CALNAME:A Very Broadway Christmas Concert at St. John&#039;s
X-ORIGINAL-URL:https://christmasconcert.stjohnhillsdale.org
X-WR-CALDESC:Events for A Very Broadway Christmas Concert at St. John&#039;s
REFRESH-INTERVAL;VALUE=DURATION:PT1H
X-Robots-Tag:noindex
X-PUBLISHED-TTL:PT1H
BEGIN:VTIMEZONE
TZID:America/New_York
BEGIN:DAYLIGHT
TZOFFSETFROM:-0500
TZOFFSETTO:-0400
TZNAME:EDT
DTSTART:20240310T070000
END:DAYLIGHT
BEGIN:STANDARD
TZOFFSETFROM:-0400
TZOFFSETTO:-0500
TZNAME:EST
DTSTART:20241103T060000
END:STANDARD
BEGIN:DAYLIGHT
TZOFFSETFROM:-0500
TZOFFSETTO:-0400
TZNAME:EDT
DTSTART:20250309T070000
END:DAYLIGHT
BEGIN:STANDARD
TZOFFSETFROM:-0400
TZOFFSETTO:-0500
TZNAME:EST
DTSTART:20251102T060000
END:STANDARD
BEGIN:DAYLIGHT
TZOFFSETFROM:-0500
TZOFFSETTO:-0400
TZNAME:EDT
DTSTART:20260308T070000
END:DAYLIGHT
BEGIN:STANDARD
TZOFFSETFROM:-0400
TZOFFSETTO:-0500
TZNAME:EST
DTSTART:20261101T060000
END:STANDARD
END:VTIMEZONE
BEGIN:VEVENT
DTSTART;TZID=America/New_York:20251214T160000
DTEND;TZID=America/New_York:20251214T180000
DTSTAMP:20260420T044543
CREATED:20251106T180816Z
LAST-MODIFIED:20251106T212933Z
UID:3036-1765728000-1765735200@christmasconcert.stjohnhillsdale.org
SUMMARY:A Very Broadway Christmas Concert
DESCRIPTION:Please consult the seating chart and make your ticket selections below. For any ticketing inquiries or offers of assistance\, please call Cathy Williamson at 201-664-3131. ⭐ For sponsorship inquiries\, please call Cathy Williamson at 201-664-3131 or Diane Donato at 201-264-6771. 								\n				\n				\n		\n				\n				\n												\n											\n															\n											Seating Chart (click to enlarge)
URL:https://christmasconcert.stjohnhillsdale.org/event/very-broadway-christmas-2025/
LOCATION:St. John the Baptist Church\, 69 Valley St\, Hillsdale\, NJ\, 07642\, United States
END:VEVENT
END:VCALENDAR